BEGIN:VCALENDAR
VERSION:2.0
PRODID:spatie/icalendar-generator
DESCRIPTION:Events from The Brick Church
X-WR-CALDESC:Events from The Brick Church
REFRESH-INTERVAL;VALUE=DURATION:PT1440M
X-PUBLISHED-TTL:PT1440M
BEGIN:VTIMEZONE
TZID:America/New_York
BEGIN:STANDARD
DTSTART:20251102T020000Z
TZOFFSETFROM:-0400
TZOFFSETTO:-0500
END:STANDARD
BEGIN:DAYLIGHT
DTSTART:20260308T020000Z
TZOFFSETFROM:-0500
TZOFFSETTO:-0400
END:DAYLIGHT
END:VTIMEZONE
BEGIN:VTIMEZONE
TZID:UTC
BEGIN:STANDARD
DTSTART:20250723T181846Z
TZOFFSETFROM:+0000
TZOFFSETTO:+0000
END:STANDARD
END:VTIMEZONE
BEGIN:VEVENT
UID:535-5
DTSTAMP:20260419T181846Z
SUMMARY:Fellowship Hour
LOCATION:The Brick Church 298 Middle Road  N. Clarendon VT 05736
ORGANIZER;CN=William Kingsley:MAILTO:pastor@brickchurchvt.com
RRULE:FREQ=WEEKLY;UNTIL=20301229T000000Z
DTSTART;TZID=America/New_York:20260329T114500
DTEND;TZID=America/New_York:20260329T130000
X-ALT-DESC;FMTTYPE=TEXT/HTML:We gather for coffee\, snacks and sometimes a 
 meal every Sunday after Gathered Worship
CATEGORIES:General
URL;VALUE=URI:https://brickchurchvt.com/mc-events/fellowship-hour/?mc_id=53
 5
METHOD:PUBLISH
END:VEVENT
END:VCALENDAR